BEGIN:VCALENDAR
VERSION:2.0
PRODID:-//Jimi Fiano - ECPv6.15.20//NONSGML v1.0//EN
CALSCALE:GREGORIAN
METHOD:PUBLISH
X-WR-CALNAME:Jimi Fiano
X-ORIGINAL-URL:https://jimifiano.com
X-WR-CALDESC:Events for Jimi Fiano
REFRESH-INTERVAL;VALUE=DURATION:PT1H
X-Robots-Tag:noindex
X-PUBLISHED-TTL:PT1H
BEGIN:VTIMEZONE
TZID:UTC
BEGIN:STANDARD
TZOFFSETFROM:+0000
TZOFFSETTO:+0000
TZNAME:UTC
DTSTART:20240101T000000
END:STANDARD
END:VTIMEZONE
BEGIN:VEVENT
DTSTART;TZID=UTC:20260205T190000
DTEND;TZID=UTC:20260205T223000
DTSTAMP:20260421T101946
CREATED:20250722T163053Z
LAST-MODIFIED:20260127T204345Z
UID:10000524-1770318000-1770330600@jimifiano.com
SUMMARY:Jimi Fiano w/Barry Britton @ Double Roads
DESCRIPTION:
URL:https://jimifiano.com/event/jimi-fiano-w-barry-britton-double-roads/
LOCATION:Double Roads Tavern\, 103 US-1 Suite a1\, Jupiter\, FL\, 33458\, United States
CATEGORIES:Shows
ATTACH;FMTTYPE=image/png:https://jimifiano.com/wp-content/uploads/2024/04/double-roads-white-boarder-1500b-PX-600x122-1.png
END:VEVENT
BEGIN:VEVENT
DTSTART;TZID=UTC:20260201T130000
DTEND;TZID=UTC:20260201T160000
DTSTAMP:20260421T101946
CREATED:20260127T204238Z
LAST-MODIFIED:20260211T043710Z
UID:10000605-1769950800-1769961600@jimifiano.com
SUMMARY:Jimi Fiano w/ The Shakey T Trio @ CJ Blacks
DESCRIPTION:
URL:https://jimifiano.com/event/jimi-fiano-w-the-shakey-t-trio-cj-blacks-2-2-3-2-3-2-2-2-2-2/2026-02-01/
LOCATION:CJ Blacks\, 11300 W State Rd 84\, Davie\, 33325\, United States
CATEGORIES:Shows
ATTACH;FMTTYPE=image/png:https://jimifiano.com/wp-content/uploads/2023/09/logoheadermaster2.png
END:VEVENT
BEGIN:VEVENT
DTSTART;TZID=UTC:20260128T190000
DTEND;TZID=UTC:20260128T230000
DTSTAMP:20260421T101946
CREATED:20240815T163437Z
LAST-MODIFIED:20260127T203956Z
UID:10000375-1769626800-1769641200@jimifiano.com
SUMMARY:Jimi Fiano w/ The Shakey T Band @ Sharkey's
DESCRIPTION:
URL:https://jimifiano.com/event/jimi-fiano-w-the-shakey-t-band-sharkeys/
LOCATION:Sharkey’s Bar and Grill\, 10365 Royal Palm Blvd\, Coral Springs\, FL\, United States
CATEGORIES:Shows
ATTACH;FMTTYPE=image/webp:https://jimifiano.com/wp-content/uploads/2023/12/qtq_95-4.webp
END:VEVENT
BEGIN:VEVENT
DTSTART;TZID=UTC:20260127T190000
DTEND;TZID=UTC:20260127T210000
DTSTAMP:20260421T101946
CREATED:20241204T225022Z
LAST-MODIFIED:20260112T214918Z
UID:10000607-1769540400-1769547600@jimifiano.com
SUMMARY:Jimi Fiano w/Barry Britton @ Casa Cay Restaurant & Bar
DESCRIPTION:
URL:https://jimifiano.com/event/jimi-fiano-w-barry-britton-cass-cay-restaurant-bar/2026-01-27/
LOCATION:Cass Cay Restaurant & Bar\, 3200 Matecumbe Key Rd\, Punta Gorda\, FL\, 33955\, United States
CATEGORIES:Shows
END:VEVENT
BEGIN:VEVENT
DTSTART;TZID=UTC:20260125T180000
DTEND;TZID=UTC:20260125T210000
DTSTAMP:20260421T101946
CREATED:20241230T171250Z
LAST-MODIFIED:20260112T215015Z
UID:10000486-1769364000-1769374800@jimifiano.com
SUMMARY:Jimi Fiano w/ Charlie Sullivan & Women on Top Divas
DESCRIPTION:
URL:https://jimifiano.com/event/jimi-fiano-w-women-on-top-divas/
LOCATION:Fishtales\, 3355 NE 33rd St\, Fort Lauderdale\, FL\, 33308\, United States
CATEGORIES:Shows
ATTACH;FMTTYPE=image/webp:https://jimifiano.com/wp-content/uploads/2024/10/fishtales.webp
END:VEVENT
BEGIN:VEVENT
DTSTART;TZID=UTC:20260122T190000
DTEND;TZID=UTC:20260122T210000
DTSTAMP:20260421T101946
CREATED:20260112T214650Z
LAST-MODIFIED:20260112T214651Z
UID:10000487-1769108400-1769115600@jimifiano.com
SUMMARY:Jimi Fiano Band - Hollywood Bandshell
DESCRIPTION:
URL:https://jimifiano.com/event/jimi-fiano-band-hollywood-bandshell-2-2/
LOCATION:Hollywood Bandshell\, 200 Johnson St\, Hollywood\, FL\, 33020\, United States
CATEGORIES:Shows
ATTACH;FMTTYPE=image/png:https://jimifiano.com/wp-content/uploads/2023/10/Margarita-Logo.png
END:VEVENT
BEGIN:VEVENT
DTSTART;TZID=UTC:20260117T200000
DTEND;TZID=UTC:20260117T213000
DTSTAMP:20260421T101946
CREATED:20260113T171720Z
LAST-MODIFIED:20260113T171720Z
UID:10000608-1768680000-1768685400@jimifiano.com
SUMMARY:Jim Fiano @ Private Event
DESCRIPTION:
URL:https://jimifiano.com/event/jim-fiano-private-event/
CATEGORIES:Shows
END:VEVENT
BEGIN:VEVENT
DTSTART;TZID=UTC:20260116T200000
DTEND;TZID=UTC:20260116T210000
DTSTAMP:20260421T101946
CREATED:20260113T173014Z
LAST-MODIFIED:20260113T173014Z
UID:10000609-1768593600-1768597200@jimifiano.com
SUMMARY:Jimi Fiano w/Rebel Soul @ City of Holly Hill
DESCRIPTION:
URL:https://jimifiano.com/event/jimi-fiano-w-rebel-soul-city-of-holly-hill/
LOCATION:City of Holly Hill\, 1065 S.Ridgewood Ave.\, Holly Hill\, FL\, 32117\, United States
CATEGORIES:Shows
END:VEVENT
BEGIN:VEVENT
DTSTART;TZID=UTC:20260113T190000
DTEND;TZID=UTC:20260113T213000
DTSTAMP:20260421T101946
CREATED:20241204T225022Z
LAST-MODIFIED:20260112T214918Z
UID:10000447-1768330800-1768339800@jimifiano.com
SUMMARY:Jimi Fiano w/Barry Britton @ Casa Cay Restaurant & Bar
DESCRIPTION:
URL:https://jimifiano.com/event/jimi-fiano-w-barry-britton-cass-cay-restaurant-bar/2026-01-13/
LOCATION:Cass Cay Restaurant & Bar\, 3200 Matecumbe Key Rd\, Punta Gorda\, FL\, 33955\, United States
CATEGORIES:Shows
END:VEVENT
BEGIN:VEVENT
DTSTART;TZID=UTC:20260103T180000
DTEND;TZID=UTC:20260103T203000
DTSTAMP:20260421T101946
CREATED:20250703T204235Z
LAST-MODIFIED:20260101T170812Z
UID:10000505-1767463200-1767472200@jimifiano.com
SUMMARY:Jimi Fiano w/The Bruce Tribute @ Wellington Amp
DESCRIPTION:
URL:https://jimifiano.com/event/jimi-fiano-w-the-bruce-tribute/
LOCATION:Wellington Ampitheater\, 12100 Forrest Hill Blvd.\, Wellington\, FL\, 33414\, United States
CATEGORIES:Shows
END:VEVENT
BEGIN:VEVENT
DTSTART;TZID=UTC:20251226T193000
DTEND;TZID=UTC:20251226T223000
DTSTAMP:20260421T101946
CREATED:20251224T145319Z
LAST-MODIFIED:20251224T145320Z
UID:10000519-1766777400-1766788200@jimifiano.com
SUMMARY:Jimi Fiano w/ The Shakey T Duo @ Luv N Oven
DESCRIPTION:
URL:https://jimifiano.com/event/jimi-fiano-w-the-shakey-t-trio-luvnoven/
LOCATION:Luv’n Oven Ale House Sunrise\, 10033 Sunset Strip\, Sunrise\, FL\, 33322\, United States
CATEGORIES:Shows
ATTACH;FMTTYPE=image/png:https://jimifiano.com/wp-content/uploads/2023/09/logoheadermaster2.png
END:VEVENT
BEGIN:VEVENT
DTSTART;TZID=UTC:20251223T200000
DTEND;TZID=UTC:20251223T230000
DTSTAMP:20260421T101946
CREATED:20251017T182527Z
LAST-MODIFIED:20251205T190259Z
UID:10000596-1766520000-1766530800@jimifiano.com
SUMMARY:Jimi Fiano @ Tipperary Pub
DESCRIPTION:
URL:https://jimifiano.com/event/jimi-fiano-w-westside-blues-band-tipperary-pub/
LOCATION:Tipperary Pub\, 1540 SE 3rd St.\, Deerfield Beach\, FL\, 33441\, United States
CATEGORIES:Shows
ATTACH;FMTTYPE=image/png:https://jimifiano.com/wp-content/uploads/2025/10/tipperary.png
END:VEVENT
BEGIN:VEVENT
DTSTART;TZID=UTC:20251218T200000
DTEND;TZID=UTC:20251218T230000
DTSTAMP:20260421T101946
CREATED:20251205T190001Z
LAST-MODIFIED:20251205T190001Z
UID:10000521-1766088000-1766098800@jimifiano.com
SUMMARY:Jimi Fiano w/Shannon Battle & Ezo Hernandez @ Margaritaville Restaurant
DESCRIPTION:
URL:https://jimifiano.com/event/jimi-fiano-band-margaritaville-restaurant-shannon-battle-2/
LOCATION:Margaritaville Restaurant\, 1111 N Ocean Dr\, Hollywood\, FL\, 33019\, United States
CATEGORIES:Shows
ATTACH;FMTTYPE=image/png:https://jimifiano.com/wp-content/uploads/2023/10/Margarita-Logo.png
END:VEVENT
BEGIN:VEVENT
DTSTART;TZID=UTC:20251213T190000
DTEND;TZID=UTC:20251213T230000
DTSTAMP:20260421T101946
CREATED:20251027T202350Z
LAST-MODIFIED:20251205T185434Z
UID:10000597-1765652400-1765666800@jimifiano.com
SUMMARY:Jimi Fiano w/ The Shakey T Duo @ CJ Blacks
DESCRIPTION:
URL:https://jimifiano.com/event/jimi-fiano-w-the-shakey-t-trio-cj-blacks-2-2-3-2-3-2-2-2-2-3/
LOCATION:CJ Blacks\, 11300 W State Rd 84\, Davie\, 33325\, United States
CATEGORIES:Shows
ATTACH;FMTTYPE=image/png:https://jimifiano.com/wp-content/uploads/2023/09/logoheadermaster2.png
END:VEVENT
BEGIN:VEVENT
DTSTART;TZID=UTC:20251207T190000
DTEND;TZID=UTC:20251207T230000
DTSTAMP:20260421T101946
CREATED:20251205T183831Z
LAST-MODIFIED:20251205T183837Z
UID:10000036-1765134000-1765148400@jimifiano.com
SUMMARY:Jimmi Fiano w/Chill Factor @ Johnnie Brown's
DESCRIPTION:
URL:https://jimifiano.com/event/jimmi-fiano-w-chill-factor-2/
LOCATION:Johnnie Browns\, 301 E Atlantic Ave\, Delray Beach\, FL\, 33483\, United States
CATEGORIES:Shows
ATTACH;FMTTYPE=image/png:https://jimifiano.com/wp-content/uploads/2024/04/JBlogoHorizontal-Orange-01copy.png
END:VEVENT
BEGIN:VEVENT
DTSTART;TZID=UTC:20251201T200000
DTEND;TZID=UTC:20251201T230000
DTSTAMP:20260421T101946
CREATED:20260127T215107Z
LAST-MODIFIED:20260301T040956Z
UID:10000622-1764619200-1764630000@jimifiano.com
SUMMARY:Jimi Fiano w/ The Shakey T Trio @ CJ Blacks
DESCRIPTION:
URL:https://jimifiano.com/event/jimi-fiano-w-the-shakey-t-trio-cj-blacks-2-2-3-2-3-2-2-2-2-2-2/
LOCATION:CJ Blacks\, 11300 W State Rd 84\, Davie\, 33325\, United States
CATEGORIES:Shows
ATTACH;FMTTYPE=image/png:https://jimifiano.com/wp-content/uploads/2023/09/logoheadermaster2.png
END:VEVENT
BEGIN:VEVENT
DTSTART;TZID=UTC:20251123T190000
DTEND;TZID=UTC:20251123T213000
DTSTAMP:20260421T101946
CREATED:20251008T003311Z
LAST-MODIFIED:20251008T003311Z
UID:10000594-1763924400-1763933400@jimifiano.com
SUMMARY:Jimi Fiano w/Barry Britton @ Century Village Clubhouse
DESCRIPTION:
URL:https://jimifiano.com/event/jimi-fiano-w-barry-britton-century-village-clubhouse/
LOCATION:Century Village Clubhouse\, 2400 Century Blvd\, Deerfield Beach\, FL\, 33442\, United States
CATEGORIES:Shows
ATTACH;FMTTYPE=image/webp:https://jimifiano.com/wp-content/uploads/2025/10/rsw_365h_365cg_true.webp
END:VEVENT
BEGIN:VEVENT
DTSTART;TZID=UTC:20251023T190000
DTEND;TZID=UTC:20251023T210000
DTSTAMP:20260421T101946
CREATED:20250428T204314Z
LAST-MODIFIED:20251008T010532Z
UID:10000595-1761246000-1761253200@jimifiano.com
SUMMARY:Jimi Fiano Band - Hollywood Bandshell
DESCRIPTION:
URL:https://jimifiano.com/event/jimi-fiano-band-hollywood-bandshell-2/2025-10-23/
LOCATION:Hollywood Bandshell\, 200 Johnson St\, Hollywood\, FL\, 33020\, United States
CATEGORIES:Shows
ATTACH;FMTTYPE=image/png:https://jimifiano.com/wp-content/uploads/2023/10/Margarita-Logo.png
END:VEVENT
BEGIN:VEVENT
DTSTART;TZID=UTC:20251019T170000
DTEND;TZID=UTC:20251019T210000
DTSTAMP:20260421T101946
CREATED:20241022T202652Z
LAST-MODIFIED:20250829T231411Z
UID:10000441-1760893200-1760907600@jimifiano.com
SUMMARY:Jimi Fiano w/ Big Rock Band @ Fishtales
DESCRIPTION:
URL:https://jimifiano.com/event/jimi-fiano-w-big-rock-band-fishtales/
LOCATION:Fishtales\, 3355 NE 33rd St\, Fort Lauderdale\, FL\, 33308\, United States
CATEGORIES:Shows
ATTACH;FMTTYPE=image/webp:https://jimifiano.com/wp-content/uploads/2024/10/fishtales.webp
END:VEVENT
BEGIN:VEVENT
DTSTART;TZID=UTC:20251018T200000
DTEND;TZID=UTC:20251018T235500
DTSTAMP:20260421T101946
CREATED:20240401T212942Z
LAST-MODIFIED:20250829T231108Z
UID:10000029-1760817600-1760831700@jimifiano.com
SUMMARY:Jimi Fiano w/ Big Rock Band @ Hard Rock Rooftop
DESCRIPTION:
URL:https://jimifiano.com/event/jimi-fiano-big-rock-band-hard-rock-rooftop/
LOCATION:Rooftop Live\, 1 Lucky St\, Hollywood\, FL\, 33026\, United States
CATEGORIES:Shows
ATTACH;FMTTYPE=image/png:https://jimifiano.com/wp-content/uploads/2025/08/61dcb4a024445c7f6fa78f4d_daer-white-large-logo.png
END:VEVENT
BEGIN:VEVENT
DTSTART;TZID=UTC:20250925T200000
DTEND;TZID=UTC:20250925T230000
DTSTAMP:20260421T101946
CREATED:20250710T235141Z
LAST-MODIFIED:20250829T224505Z
UID:10000523-1758830400-1758841200@jimifiano.com
SUMMARY:Jimi Fiano w/The Shareholders @ Double Roads
DESCRIPTION:
URL:https://jimifiano.com/event/jimi-fiano-w-the-shareholders/
LOCATION:Double Roads Tavern\, 103 US-1 Suite a1\, Jupiter\, FL\, 33458\, United States
CATEGORIES:Shows
ATTACH;FMTTYPE=image/png:https://jimifiano.com/wp-content/uploads/2024/04/double-roads-white-boarder-1500b-PX-600x122-1.png
END:VEVENT
BEGIN:VEVENT
DTSTART;TZID=UTC:20250917T193000
DTEND;TZID=UTC:20250917T230000
DTSTAMP:20260421T101946
CREATED:20240514T222128Z
LAST-MODIFIED:20250829T232911Z
UID:10000039-1758137400-1758150000@jimifiano.com
SUMMARY:Jimi Fiano - Special Guest @ Kelly Brothers
DESCRIPTION:
URL:https://jimifiano.com/event/jimi-fiano-special-guest-kelly-brothers/
LOCATION:Kelly Brothers\, 3045 N Federal Hwy\, Fort Lauderdale\, FL\, 33306\, United States
CATEGORIES:Shows
ATTACH;FMTTYPE=image/png:https://jimifiano.com/wp-content/uploads/2024/05/LOGO21.png
END:VEVENT
BEGIN:VEVENT
DTSTART;TZID=UTC:20250907T190000
DTEND;TZID=UTC:20250907T213000
DTSTAMP:20260421T101946
CREATED:20250829T231803Z
LAST-MODIFIED:20250829T231803Z
UID:10000450-1757271600-1757280600@jimifiano.com
SUMMARY:Jimi Fiano w/Barry Britton @ Starlight Ballroom
DESCRIPTION:
URL:https://jimifiano.com/event/jimi-fiano-w-barry-britton-solitva-ballroom/
LOCATION:Starlight Ballroom at Solivita\, 384 Village Dr\, Kissimmee\, FL\, 34759\, United States
CATEGORIES:Shows
END:VEVENT
BEGIN:VEVENT
DTSTART;TZID=UTC:20250815T190000
DTEND;TZID=UTC:20250815T220000
DTSTAMP:20260421T101946
CREATED:20240719T210016Z
LAST-MODIFIED:20250703T211042Z
UID:10000518-1755284400-1755295200@jimifiano.com
SUMMARY:Jimi Fiano w/ The Shakey T Duo @ CJ Blacks
DESCRIPTION:
URL:https://jimifiano.com/event/jimi-fiano-w-the-shakey-t-trio-cj-blacks-2-2-2/2025-08-15/
LOCATION:CJ Blacks\, 11300 W State Rd 84\, Davie\, 33325\, United States
CATEGORIES:Shows
ATTACH;FMTTYPE=image/png:https://jimifiano.com/wp-content/uploads/2023/09/logoheadermaster2.png
END:VEVENT
BEGIN:VEVENT
DTSTART;TZID=UTC:20250806T200000
DTEND;TZID=UTC:20250806T232500
DTSTAMP:20260421T101946
CREATED:20240422T185324Z
LAST-MODIFIED:20250706T183501Z
UID:10000035-1754510400-1754522700@jimifiano.com
SUMMARY:Jimi Fiano w/ Kilmo & The Killers Reunion @ Archie's
DESCRIPTION:
URL:https://jimifiano.com/event/jimi-fiano-w-kilmo-the-killers-reunion/
LOCATION:Archie’s Bar\, 3333 E Oakland Park Blvd\, Fort Lauderdale\, FL\, 33308\, United States
CATEGORIES:Shows
END:VEVENT
BEGIN:VEVENT
DTSTART;TZID=UTC:20250801T190000
DTEND;TZID=UTC:20250801T210000
DTSTAMP:20260421T101946
CREATED:20250703T210114Z
LAST-MODIFIED:20250726T213646Z
UID:10000509-1754074800-1754082000@jimifiano.com
SUMMARY:Jimi Fiano w/Barry Britton @ Galuppi's
DESCRIPTION:
URL:https://jimifiano.com/event/jimi-fiano-w-barry-britton-galuppis/
LOCATION:Galuppi’s\, 1103 N Federal Hwy\, Pompano Beach\, FL\, 33062\, United States
CATEGORIES:Shows
ATTACH;FMTTYPE=image/png:https://jimifiano.com/wp-content/uploads/2023/12/GALUPPIS-LOGO-simple.png
END:VEVENT
BEGIN:VEVENT
DTSTART;TZID=UTC:20250730T180000
DTEND;TZID=UTC:20250730T210000
DTSTAMP:20260421T101946
CREATED:20250706T183103Z
LAST-MODIFIED:20250706T183103Z
UID:10000522-1753898400-1753909200@jimifiano.com
SUMMARY:Jimi Fiano Bluesberry Jam
DESCRIPTION:
URL:https://jimifiano.com/event/jimi-fiano-bluesberry-jam/
LOCATION:Conchy Joe’s\, 3945 NE Indian River Dr.\, Jensen Beach\, FL\, 34957\, United States
CATEGORIES:Shows
ATTACH;FMTTYPE=image/png:https://jimifiano.com/wp-content/uploads/2025/07/Conchy_logo_A02.png
END:VEVENT
BEGIN:VEVENT
DTSTART;TZID=UTC:20250719T190000
DTEND;TZID=UTC:20250719T220000
DTSTAMP:20260421T101946
CREATED:20240719T210016Z
LAST-MODIFIED:20250703T211042Z
UID:10000367-1752951600-1752962400@jimifiano.com
SUMMARY:Jimi Fiano w/ The Shakey T Duo @ CJ Blacks
DESCRIPTION:
URL:https://jimifiano.com/event/jimi-fiano-w-the-shakey-t-trio-cj-blacks-2-2-2/2025-07-19/
LOCATION:CJ Blacks\, 11300 W State Rd 84\, Davie\, 33325\, United States
CATEGORIES:Shows
ATTACH;FMTTYPE=image/png:https://jimifiano.com/wp-content/uploads/2023/09/logoheadermaster2.png
END:VEVENT
BEGIN:VEVENT
DTSTART;TZID=UTC:20250717T200000
DTEND;TZID=UTC:20250717T230000
DTSTAMP:20260421T101946
CREATED:20241022T203759Z
LAST-MODIFIED:20250703T211710Z
UID:10000502-1752782400-1752793200@jimifiano.com
SUMMARY:Jimi Fiano w/Shannon Battle & Ezo Hernandez @ Margaritaville Restaurant
DESCRIPTION:
URL:https://jimifiano.com/event/jimi-fiano-band-margaritaville-restaurant-shannon-battle/2025-07-17/
LOCATION:Margaritaville Restaurant\, 1111 N Ocean Dr\, Hollywood\, FL\, 33019\, United States
CATEGORIES:Shows
ATTACH;FMTTYPE=image/png:https://jimifiano.com/wp-content/uploads/2023/10/Margarita-Logo.png
END:VEVENT
BEGIN:VEVENT
DTSTART;TZID=UTC:20250628T180000
DTEND;TZID=UTC:20250628T210000
DTSTAMP:20260421T101946
CREATED:20250428T205407Z
LAST-MODIFIED:20250428T205407Z
UID:10000500-1751133600-1751144400@jimifiano.com
SUMMARY:Jimi Fiano w/Barry Britton @ Wild Rover Brewing Company
DESCRIPTION:
URL:https://jimifiano.com/event/jimi-fiano-w-barry-britton-wild-rover/
LOCATION:Wild Rover Brewing Company\, 13921 Lynmar Blvd\, Tampa\, FL\, 33626\, United States
CATEGORIES:Shows
ATTACH;FMTTYPE=image/webp:https://jimifiano.com/wp-content/uploads/2025/04/wildrover.webp
END:VEVENT
END:VCALENDAR