BEGIN:VCALENDAR
VERSION:2.0
PRODID:-//Jimi Fiano - ECPv6.15.20//NONSGML v1.0//EN
CALSCALE:GREGORIAN
METHOD:PUBLISH
X-WR-CALNAME:Jimi Fiano
X-ORIGINAL-URL:https://jimifiano.com
X-WR-CALDESC:Events for Jimi Fiano
REFRESH-INTERVAL;VALUE=DURATION:PT1H
X-Robots-Tag:noindex
X-PUBLISHED-TTL:PT1H
BEGIN:VTIMEZONE
TZID:UTC
BEGIN:STANDARD
TZOFFSETFROM:+0000
TZOFFSETTO:+0000
TZNAME:UTC
DTSTART:20230101T000000
END:STANDARD
END:VTIMEZONE
BEGIN:VEVENT
DTSTART;TZID=UTC:20240823T190000
DTEND;TZID=UTC:20240823T210000
DTSTAMP:20260421T204325
CREATED:20240806T155754Z
LAST-MODIFIED:20240806T161212Z
UID:10000430-1724439600-1724446800@jimifiano.com
SUMMARY:Jimi Fiano w/Barry Britton @ Athens Theatre
DESCRIPTION:
URL:https://jimifiano.com/event/jimi-fiano-w-barry-britton-athens-theatre/
LOCATION:Athens Theatre\, 124 N Florida Ave\, DeLand\, FL\, 32720\, United States
CATEGORIES:Shows
ATTACH;FMTTYPE=image/png:https://jimifiano.com/wp-content/uploads/2024/08/athens.png
END:VEVENT
END:VCALENDAR