BEGIN:VCALENDAR
VERSION:2.0
PRODID:-//Jimi Fiano - ECPv6.15.20//NONSGML v1.0//EN
CALSCALE:GREGORIAN
METHOD:PUBLISH
X-ORIGINAL-URL:https://jimifiano.com
X-WR-CALDESC:Events for Jimi Fiano
REFRESH-INTERVAL;VALUE=DURATION:PT1H
X-Robots-Tag:noindex
X-PUBLISHED-TTL:PT1H
BEGIN:VTIMEZONE
TZID:UTC
BEGIN:STANDARD
TZOFFSETFROM:+0000
TZOFFSETTO:+0000
TZNAME:UTC
DTSTART:20230101T000000
END:STANDARD
END:VTIMEZONE
BEGIN:VEVENT
DTSTART;TZID=UTC:20240818T180000
DTEND;TZID=UTC:20240818T220000
DTSTAMP:20260421T204801
CREATED:20240808T162641Z
LAST-MODIFIED:20240815T162358Z
UID:10000431-1724004000-1724018400@jimifiano.com
SUMMARY:Jimi Fiano w/ Clay Goldstein @ Blues Burgers
DESCRIPTION:
URL:https://jimifiano.com/event/jimi-fiano-w-clay-goldstein-blues-burgers/
LOCATION:Blues Burgers\, 801 N Federal Hwy Suite 109-110\, Hallandale Beach\, FL\, 33309\, United States
CATEGORIES:Shows
ATTACH;FMTTYPE=image/webp:https://jimifiano.com/wp-content/uploads/2024/08/ca21afe1-3ee1-4bd1-98f1-1d060df166e8.webp
END:VEVENT
END:VCALENDAR