BEGIN:VCALENDAR
VERSION:2.0
PRODID:-//Jimi Fiano - ECPv6.15.20//NONSGML v1.0//EN
CALSCALE:GREGORIAN
METHOD:PUBLISH
X-WR-CALNAME:Jimi Fiano
X-ORIGINAL-URL:https://jimifiano.com
X-WR-CALDESC:Events for Jimi Fiano
REFRESH-INTERVAL;VALUE=DURATION:PT1H
X-Robots-Tag:noindex
X-PUBLISHED-TTL:PT1H
BEGIN:VTIMEZONE
TZID:UTC
BEGIN:STANDARD
TZOFFSETFROM:+0000
TZOFFSETTO:+0000
TZNAME:UTC
DTSTART:20250101T000000
END:STANDARD
END:VTIMEZONE
BEGIN:VEVENT
DTSTART;TZID=UTC:20260127T190000
DTEND;TZID=UTC:20260127T210000
DTSTAMP:20260421T143914
CREATED:20241204T225022Z
LAST-MODIFIED:20260112T214918Z
UID:10000607-1769540400-1769547600@jimifiano.com
SUMMARY:Jimi Fiano w/Barry Britton @ Casa Cay Restaurant & Bar
DESCRIPTION:
URL:https://jimifiano.com/event/jimi-fiano-w-barry-britton-cass-cay-restaurant-bar/2026-01-27/
LOCATION:Cass Cay Restaurant & Bar\, 3200 Matecumbe Key Rd\, Punta Gorda\, FL\, 33955\, United States
CATEGORIES:Shows
END:VEVENT
BEGIN:VEVENT
DTSTART;TZID=UTC:20260113T190000
DTEND;TZID=UTC:20260113T213000
DTSTAMP:20260421T143914
CREATED:20241204T225022Z
LAST-MODIFIED:20260112T214918Z
UID:10000447-1768330800-1768339800@jimifiano.com
SUMMARY:Jimi Fiano w/Barry Britton @ Casa Cay Restaurant & Bar
DESCRIPTION:
URL:https://jimifiano.com/event/jimi-fiano-w-barry-britton-cass-cay-restaurant-bar/2026-01-13/
LOCATION:Cass Cay Restaurant & Bar\, 3200 Matecumbe Key Rd\, Punta Gorda\, FL\, 33955\, United States
CATEGORIES:Shows
END:VEVENT
END:VCALENDAR