BEGIN:VCALENDAR
VERSION:2.0
PRODID:-//Jimi Fiano - ECPv6.15.20//NONSGML v1.0//EN
CALSCALE:GREGORIAN
METHOD:PUBLISH
X-WR-CALNAME:Jimi Fiano
X-ORIGINAL-URL:https://jimifiano.com
X-WR-CALDESC:Events for Jimi Fiano
REFRESH-INTERVAL;VALUE=DURATION:PT1H
X-Robots-Tag:noindex
X-PUBLISHED-TTL:PT1H
BEGIN:VTIMEZONE
TZID:UTC
BEGIN:STANDARD
TZOFFSETFROM:+0000
TZOFFSETTO:+0000
TZNAME:UTC
DTSTART:20250101T000000
END:STANDARD
END:VTIMEZONE
BEGIN:VEVENT
DTSTART;TZID=UTC:20260116T200000
DTEND;TZID=UTC:20260116T210000
DTSTAMP:20260421T144305
CREATED:20260113T173014Z
LAST-MODIFIED:20260113T173014Z
UID:10000609-1768593600-1768597200@jimifiano.com
SUMMARY:Jimi Fiano w/Rebel Soul @ City of Holly Hill
DESCRIPTION:
URL:https://jimifiano.com/event/jimi-fiano-w-rebel-soul-city-of-holly-hill/
LOCATION:City of Holly Hill\, 1065 S.Ridgewood Ave.\, Holly Hill\, FL\, 32117\, United States
CATEGORIES:Shows
END:VEVENT
END:VCALENDAR