BEGIN:VCALENDAR
VERSION:2.0
PRODID:-//Jimi Fiano - ECPv6.15.20//NONSGML v1.0//EN
CALSCALE:GREGORIAN
METHOD:PUBLISH
X-WR-CALNAME:Jimi Fiano
X-ORIGINAL-URL:https://jimifiano.com
X-WR-CALDESC:Events for Jimi Fiano
REFRESH-INTERVAL;VALUE=DURATION:PT1H
X-Robots-Tag:noindex
X-PUBLISHED-TTL:PT1H
BEGIN:VTIMEZONE
TZID:UTC
BEGIN:STANDARD
TZOFFSETFROM:+0000
TZOFFSETTO:+0000
TZNAME:UTC
DTSTART:20250101T000000
END:STANDARD
END:VTIMEZONE
BEGIN:VEVENT
DTSTART;TZID=UTC:20260325T190000
DTEND;TZID=UTC:20260325T213000
DTSTAMP:20260421T125036
CREATED:20260211T052402Z
LAST-MODIFIED:20260211T052428Z
UID:10000681-1774465200-1774474200@jimifiano.com
SUMMARY:Jimi Fiano w/The Bruce Tribute @ Club Pelican Bay
DESCRIPTION:
URL:https://jimifiano.com/event/jimi-fiano-w-the-bruce-tribute-club-pelican-bay/
LOCATION:Club Pelican Bay\, 707 Gulf Park Dr\, Naples\, FL\, 34108\, United States
CATEGORIES:Shows
END:VEVENT
END:VCALENDAR