BEGIN:VCALENDAR
VERSION:2.0
PRODID:-//Jimi Fiano - ECPv6.15.20//NONSGML v1.0//EN
CALSCALE:GREGORIAN
METHOD:PUBLISH
X-ORIGINAL-URL:https://jimifiano.com
X-WR-CALDESC:Events for Jimi Fiano
REFRESH-INTERVAL;VALUE=DURATION:PT1H
X-Robots-Tag:noindex
X-PUBLISHED-TTL:PT1H
BEGIN:VTIMEZONE
TZID:UTC
BEGIN:STANDARD
TZOFFSETFROM:+0000
TZOFFSETTO:+0000
TZNAME:UTC
DTSTART:20240101T000000
END:STANDARD
END:VTIMEZONE
BEGIN:VEVENT
DTSTART;TZID=UTC:20250730T180000
DTEND;TZID=UTC:20250730T210000
DTSTAMP:20260421T174305
CREATED:20250706T183103Z
LAST-MODIFIED:20250706T183103Z
UID:10000522-1753898400-1753909200@jimifiano.com
SUMMARY:Jimi Fiano Bluesberry Jam
DESCRIPTION:
URL:https://jimifiano.com/event/jimi-fiano-bluesberry-jam/
LOCATION:Conchy Joe’s\, 3945 NE Indian River Dr.\, Jensen Beach\, FL\, 34957\, United States
CATEGORIES:Shows
ATTACH;FMTTYPE=image/png:https://jimifiano.com/wp-content/uploads/2025/07/Conchy_logo_A02.png
END:VEVENT
END:VCALENDAR