BEGIN:VCALENDAR
VERSION:2.0
PRODID:-//Jimi Fiano - ECPv6.15.20//NONSGML v1.0//EN
CALSCALE:GREGORIAN
METHOD:PUBLISH
X-WR-CALNAME:Jimi Fiano
X-ORIGINAL-URL:https://jimifiano.com
X-WR-CALDESC:Events for Jimi Fiano
REFRESH-INTERVAL;VALUE=DURATION:PT1H
X-Robots-Tag:noindex
X-PUBLISHED-TTL:PT1H
BEGIN:VTIMEZONE
TZID:UTC
BEGIN:STANDARD
TZOFFSETFROM:+0000
TZOFFSETTO:+0000
TZNAME:UTC
DTSTART:20240101T000000
END:STANDARD
END:VTIMEZONE
BEGIN:VEVENT
DTSTART;TZID=UTC:20250627T190000
DTEND;TZID=UTC:20250627T210000
DTSTAMP:20260421T144223
CREATED:20250428T204824Z
LAST-MODIFIED:20250428T204841Z
UID:10000499-1751050800-1751058000@jimifiano.com
SUMMARY:Jimi Fiano w/Barry Britton @ Delray Beach Amphitheater
DESCRIPTION:
URL:https://jimifiano.com/event/jimi-fiano-w-barry-britton-delray-beach-amphitheater/
LOCATION:Delray Marketplace Amphitheater\, 9025 W Atlantic Ave\, Delray Beach\, FL\, 33446\, United States
CATEGORIES:Shows
ATTACH;FMTTYPE=image/png:https://jimifiano.com/wp-content/uploads/2025/04/delray-logo-white.png
END:VEVENT
END:VCALENDAR