BEGIN:VCALENDAR
VERSION:2.0
PRODID:-//Jimi Fiano - ECPv6.15.20//NONSGML v1.0//EN
CALSCALE:GREGORIAN
METHOD:PUBLISH
X-WR-CALNAME:Jimi Fiano
X-ORIGINAL-URL:https://jimifiano.com
X-WR-CALDESC:Events for Jimi Fiano
REFRESH-INTERVAL;VALUE=DURATION:PT1H
X-Robots-Tag:noindex
X-PUBLISHED-TTL:PT1H
BEGIN:VTIMEZONE
TZID:UTC
BEGIN:STANDARD
TZOFFSETFROM:+0000
TZOFFSETTO:+0000
TZNAME:UTC
DTSTART:20240101T000000
END:STANDARD
END:VTIMEZONE
BEGIN:VEVENT
DTSTART;TZID=UTC:20250307T053000
DTEND;TZID=UTC:20250307T210000
DTSTAMP:20260421T191716
CREATED:20250305T191314Z
LAST-MODIFIED:20250307T032303Z
UID:10000491-1741325400-1741381200@jimifiano.com
SUMMARY:Jimi Fiano @ Retro Night 2025
DESCRIPTION:
URL:https://jimifiano.com/event/jimi-fiano-retro-night-2025/
LOCATION:Herb Skolnick Center\, 800 SW 36th Ave\, Pompano Beach\, FL\, 33069\, United States
END:VEVENT
END:VCALENDAR