BEGIN:VCALENDAR
VERSION:2.0
PRODID:-//Jimi Fiano - ECPv6.15.20//NONSGML v1.0//EN
CALSCALE:GREGORIAN
METHOD:PUBLISH
X-ORIGINAL-URL:https://jimifiano.com
X-WR-CALDESC:Events for Jimi Fiano
REFRESH-INTERVAL;VALUE=DURATION:PT1H
X-Robots-Tag:noindex
X-PUBLISHED-TTL:PT1H
BEGIN:VTIMEZONE
TZID:UTC
BEGIN:STANDARD
TZOFFSETFROM:+0000
TZOFFSETTO:+0000
TZNAME:UTC
DTSTART:20240101T000000
END:STANDARD
END:VTIMEZONE
BEGIN:VEVENT
DTSTART;TZID=UTC:20260408T190000
DTEND;TZID=UTC:20260408T223000
DTSTAMP:20260421T130842
CREATED:20260127T211416Z
LAST-MODIFIED:20260326T190349Z
UID:10000616-1775674800-1775687400@jimifiano.com
SUMMARY:Jimi Fiano @ Kelly Brothers
DESCRIPTION:
URL:https://jimifiano.com/event/jimi-fiano-kelly-brothers/
LOCATION:Kelly Brothers\, 3045 N Federal Hwy\, Fort Lauderdale\, FL\, 33306\, United States
CATEGORIES:Shows
ATTACH;FMTTYPE=image/png:https://jimifiano.com/wp-content/uploads/2024/05/LOGO21.png
END:VEVENT
BEGIN:VEVENT
DTSTART;TZID=UTC:20250917T193000
DTEND;TZID=UTC:20250917T230000
DTSTAMP:20260421T130842
CREATED:20240514T222128Z
LAST-MODIFIED:20250829T232911Z
UID:10000039-1758137400-1758150000@jimifiano.com
SUMMARY:Jimi Fiano - Special Guest @ Kelly Brothers
DESCRIPTION:
URL:https://jimifiano.com/event/jimi-fiano-special-guest-kelly-brothers/
LOCATION:Kelly Brothers\, 3045 N Federal Hwy\, Fort Lauderdale\, FL\, 33306\, United States
CATEGORIES:Shows
ATTACH;FMTTYPE=image/png:https://jimifiano.com/wp-content/uploads/2024/05/LOGO21.png
END:VEVENT
BEGIN:VEVENT
DTSTART;TZID=UTC:20250216T190000
DTEND;TZID=UTC:20250216T220000
DTSTAMP:20260421T130842
CREATED:20250213T162600Z
LAST-MODIFIED:20250213T162600Z
UID:10000488-1739732400-1739743200@jimifiano.com
SUMMARY:Jimi Fiano w/ Charlie Sullivan @ Kelly Brothers
DESCRIPTION:
URL:https://jimifiano.com/event/jimi-fiano-w-charlie-sullivan-kellys/
LOCATION:Kelly Brothers\, 3045 N Federal Hwy\, Fort Lauderdale\, FL\, 33306\, United States
CATEGORIES:Shows
ATTACH;FMTTYPE=image/png:https://jimifiano.com/wp-content/uploads/2024/05/LOGO21.png
END:VEVENT
END:VCALENDAR