BEGIN:VCALENDAR
VERSION:2.0
PRODID:-//Jimi Fiano - ECPv6.15.20//NONSGML v1.0//EN
CALSCALE:GREGORIAN
METHOD:PUBLISH
X-ORIGINAL-URL:https://jimifiano.com
X-WR-CALDESC:Events for Jimi Fiano
REFRESH-INTERVAL;VALUE=DURATION:PT1H
X-Robots-Tag:noindex
X-PUBLISHED-TTL:PT1H
BEGIN:VTIMEZONE
TZID:UTC
BEGIN:STANDARD
TZOFFSETFROM:+0000
TZOFFSETTO:+0000
TZNAME:UTC
DTSTART:20240101T000000
END:STANDARD
END:VTIMEZONE
BEGIN:VEVENT
DTSTART;TZID=UTC:20250308T181500
DTEND;TZID=UTC:20250308T191500
DTSTAMP:20260421T191804
CREATED:20250305T183901Z
LAST-MODIFIED:20250307T032257Z
UID:10000490-1741457700-1741461300@jimifiano.com
SUMMARY:Jimi Fiano w/Barry Britton @ Beatles On The Beach - Delray Beach
DESCRIPTION:
URL:https://jimifiano.com/event/jimi-fiano-w-barry-britton-delray-beach/
LOCATION:Old School Square\, 51 N Swinton Ave\, Delray Beach\, FL\, 33444\, United States
CATEGORIES:Shows
ATTACH;FMTTYPE=image/webp:https://jimifiano.com/wp-content/uploads/2025/03/Beatles-on-the-Beach-logo-1.webp
END:VEVENT
END:VCALENDAR