BEGIN:VCALENDAR
VERSION:2.0
PRODID:-//Jimi Fiano - ECPv6.15.20//NONSGML v1.0//EN
CALSCALE:GREGORIAN
METHOD:PUBLISH
X-WR-CALNAME:Jimi Fiano
X-ORIGINAL-URL:https://jimifiano.com
X-WR-CALDESC:Events for Jimi Fiano
REFRESH-INTERVAL;VALUE=DURATION:PT1H
X-Robots-Tag:noindex
X-PUBLISHED-TTL:PT1H
BEGIN:VTIMEZONE
TZID:UTC
BEGIN:STANDARD
TZOFFSETFROM:+0000
TZOFFSETTO:+0000
TZNAME:UTC
DTSTART:20250101T000000
END:STANDARD
END:VTIMEZONE
BEGIN:VEVENT
DTSTART;TZID=UTC:20260313T190000
DTEND;TZID=UTC:20260313T210000
DTSTAMP:20260421T124702
CREATED:20260211T051922Z
LAST-MODIFIED:20260211T051922Z
UID:10000680-1773428400-1773435600@jimifiano.com
SUMMARY:Jimi Fiano w/Barry Britton @ South Street City Oven
DESCRIPTION:
URL:https://jimifiano.com/event/jimi-fiano-w-barry-britton-south-street-city-oven/
LOCATION:South Street City Oven Bar and Grill\, 1410 Pine Ridge Rd.\, Naples\, FL\, 34108\, United States
CATEGORIES:Shows
END:VEVENT
END:VCALENDAR