BEGIN:VCALENDAR
VERSION:2.0
PRODID:-//Jimi Fiano - ECPv6.15.20//NONSGML v1.0//EN
CALSCALE:GREGORIAN
METHOD:PUBLISH
X-ORIGINAL-URL:https://jimifiano.com
X-WR-CALDESC:Events for Jimi Fiano
REFRESH-INTERVAL;VALUE=DURATION:PT1H
X-Robots-Tag:noindex
X-PUBLISHED-TTL:PT1H
BEGIN:VTIMEZONE
TZID:UTC
BEGIN:STANDARD
TZOFFSETFROM:+0000
TZOFFSETTO:+0000
TZNAME:UTC
DTSTART:20240101T000000
END:STANDARD
END:VTIMEZONE
BEGIN:VEVENT
DTSTART;TZID=UTC:20251223T200000
DTEND;TZID=UTC:20251223T230000
DTSTAMP:20260421T143915
CREATED:20251017T182527Z
LAST-MODIFIED:20251205T190259Z
UID:10000596-1766520000-1766530800@jimifiano.com
SUMMARY:Jimi Fiano @ Tipperary Pub
DESCRIPTION:
URL:https://jimifiano.com/event/jimi-fiano-w-westside-blues-band-tipperary-pub/
LOCATION:Tipperary Pub\, 1540 SE 3rd St.\, Deerfield Beach\, FL\, 33441\, United States
CATEGORIES:Shows
ATTACH;FMTTYPE=image/png:https://jimifiano.com/wp-content/uploads/2025/10/tipperary.png
END:VEVENT
END:VCALENDAR