BEGIN:VCALENDAR
VERSION:2.0
PRODID:-//Jimi Fiano - ECPv6.15.20//NONSGML v1.0//EN
CALSCALE:GREGORIAN
METHOD:PUBLISH
X-ORIGINAL-URL:https://jimifiano.com
X-WR-CALDESC:Events for Jimi Fiano
REFRESH-INTERVAL;VALUE=DURATION:PT1H
X-Robots-Tag:noindex
X-PUBLISHED-TTL:PT1H
BEGIN:VTIMEZONE
TZID:UTC
BEGIN:STANDARD
TZOFFSETFROM:+0000
TZOFFSETTO:+0000
TZNAME:UTC
DTSTART:20250101T000000
END:STANDARD
END:VTIMEZONE
BEGIN:VEVENT
DTSTART;TZID=UTC:20260326T190000
DTEND;TZID=UTC:20260326T210000
DTSTAMP:20260421T113912
CREATED:20250428T210247Z
LAST-MODIFIED:20260211T052726Z
UID:10000503-1774551600-1774558800@jimifiano.com
SUMMARY:Jimi Fiano w/Barry Britton Whispering Oaks Winery
DESCRIPTION:
URL:https://jimifiano.com/event/jimi-fiano-w-barry-britton-whispering-oaks-winery/
LOCATION:Whispering Oaks Winery\, 10934 S Hwy 475\, Oxford\, FL\, 34484\, United States
CATEGORIES:Shows
ATTACH;FMTTYPE=image/webp:https://jimifiano.com/wp-content/uploads/2025/04/WhisperingOaksLogoHD_0216ed47-f709-4837-8692-1fc923746154.webp
END:VEVENT
END:VCALENDAR